Workbook

Sheet Quy 3
A1: ĐẢNG CỘNG SẢN VIỆT NAM | E1: Mẫu báo cáo B01/ĐP
A2: Đơn vị báo cáo: Chi bộ 3 | E2: Ban hành kèm theo Công văn số 141-CV/VPTW/nb
A3: Đơn vị nhận báo cáo: Đảng bộ trường CĐKT Lý Tự Trọng | E3: Ngày 17-3-2011 của Văn phòng Trung ương Đảng
A4: BÁO CÁO THU, NỘP ĐẢNG PHÍ
A5: Quý 3 năm 2017
A7: TT | B7: Chỉ tiêu | C7: Đơn vị tính | D7: Mã số | E7: Đảng bộ xã, phường, thị trấn | F7: Đảng bộ doanh nghiệp | G7: Đảng bộ khác | H7: Cộng | I7: Ghi chú
A8: A | B8: B | C8: C | D8: D | E8: 1 | F8: 2 | G8: 3 | H8: 4=1+2+3 | I8: E
A9: I | B9: Tổng số Đảng viên đến cuối kỳ báo cáo | C9: Người | D9: 01 | G9: 18
A10: II | B10: Đảng phí thu được từ chi bộ của cấp báo cáo | C10: Đồng | M10: 2760787.5
A11: 1 | B11: Kỳ báo cáo | C11: Đồng | D11: 02 | G11: =#REF!+#REF!+#REF! -> #REF! | H11: =G11 -> #REF! | M11: 2669992.7
A12: 2 | B12: Từ đầu năm đến cuối kỳ báo cáo | C12: Đồng | D12: 03 | G12: =G11+#REF! -> #REF! | H12: =G12 -> #REF! | M12: =M10+M11 -> 5430780.3
A13: III | B13: Đảng phí trích giữ lại ở các cấp | C13: Đồng
A14: 1 | B14: Kỳ báo cáo (05+06+07) | C14: Đồng | D14: 04
A15: 1.1 | B15: Chi bộ, đảng bộ bộ phận | C15: Đồng | D15: 5 | G15: =G11*30% -> #REF! | H15: =G15 -> #REF!
A16: 1.2 | B16: Tổ chức cơ sở Đảng | C16: Đồng | D16: 6
A17: 1.3 | B17: Các cấp trên cơ sở | C17: Đồng | D17: 7 | G17: =G11*70% -> #REF! | H17: =G17 -> #REF!
A18: 2 | B18: Từ đầu năm đến cuối kỳ báo cáo | C18: Đồng | D18: 8
A19: 2.1 | B19: Chi bộ, đảng bộ bộ phận | C19: Đồng | D19: 9 | G19: =G12*30% -> #REF! | H19: =G19 -> #REF!
A20: 2.2 | B20: Tổ chức cơ sở Đảng | C20: Đồng | D20: 10
A21: 2.3 | B21: Các cấp trên cơ sở | C21: Đồng | D21: 11 | G21: =G12*70% -> #REF! | H21: =G21 -> #REF!
A22: IV | B22: Đảng phí nộp cấp trên của cấp báo cáo | C22: Đồng
A23: 1 | B23: Số phải nộp kỳ báo cáo (02-04) | C23: Đồng | D23: 12 | G23: =G17 -> #REF! | H23: =G23 -> #REF!
A24: 2 | B24: Từ đầu năm đến cuối kỳ báo cáo (03-08) | C24: Đồng | D24: 13 | G24: =G21 -> #REF! | H24: =G24 -> #REF!
A25: 3 | B25: Số còn nợ chưa nộp cấp trên đến cuối kỳ báo cáo | C25: Đồng | D25: 14 | G25: 0 | H25: =G25 -> 0
G27: Ngày tháng năm 2017
B28: Người lập | G28: T/M Cấp ủy
B32: Đỗ Thị Phương Khanh | G32: Võ Đắc Thịnh

Sheet Thang 10
A1: ĐẢNG CỘNG SẢN VIỆT NAM | E1: Mẫu báo cáo B01/ĐP
A2: Đơn vị báo cáo: Chi bộ 3 | E2: Ban hành kèm theo Công văn số 141-CV/VPTW/nb
A3: Đơn vị nhận báo cáo: Đảng bộ trường CĐKT Lý Tự Trọng | E3: Ngày 17-3-2011 của Văn phòng Trung ương Đảng
A4: BÁO CÁO THU, NỘP ĐẢNG PHÍ
A5: Tháng 10 năm 2017
A7: TT | B7: Chỉ tiêu | C7: Đơn vị tính | D7: Mã số | E7: Đảng bộ xã, phường, thị trấn | F7: Đảng bộ doanh nghiệp | G7: Đảng bộ khác | H7: Cộng | I7: Ghi chú
A8: A | B8: B | C8: C | D8: D | E8: 1 | F8: 2 | G8: 3 | H8: 4=1+2+3 | I8: E
A9: I | B9: Tổng số Đảng viên đến cuối kỳ báo cáo | C9: Người | D9: 01 | G9: 18
A10: II | B10: Đảng phí thu được từ chi bộ của cấp báo cáo | C10: Đồng
A11: 1 | B11: Kỳ báo cáo | C11: Đồng | D11: 02 | G11: 1075844.3 | H11: =G11 -> 1075844.3
A12: 2 | B12: Từ đầu năm đến cuối kỳ báo cáo | C12: Đồng | D12: 03 | G12: =G11+#REF! -> #REF! | H12: =G12 -> #REF!
A13: III | B13: Đảng phí trích giữ lại ở các cấp | C13: Đồng
A14: 1 | B14: Kỳ báo cáo (05+06+07) | C14: Đồng | D14: 04
A15: 1.1 | B15: Chi bộ, đảng bộ bộ phận | C15: Đồng | D15: 5 | G15: =G11*30% -> 322753.28 | H15: =G15 -> 322753.28
A16: 1.2 | B16: Tổ chức cơ sở Đảng | C16: Đồng | D16: 6
A17: 1.3 | B17: Các cấp trên cơ sở | C17: Đồng | D17: 7 | G17: =G11*70% -> 753090.98 | H17: =G17 -> 753090.98
A18: 2 | B18: Từ đầu năm đến cuối kỳ báo cáo | C18: Đồng | D18: 8
A19: 2.1 | B19: Chi bộ, đảng bộ bộ phận | C19: Đồng | D19: 9 | G19: =G12*30% -> #REF! | H19: =G19 -> #REF!
A20: 2.2 | B20: Tổ chức cơ sở Đảng | C20: Đồng | D20: 10
A21: 2.3 | B21: Các cấp trên cơ sở | C21: Đồng | D21: 11 | G21: =G12*70% -> #REF! | H21: =G21 -> #REF!
A22: IV | B22: Đảng phí nộp cấp trên của cấp báo cáo | C22: Đồng
A23: 1 | B23: Số phải nộp kỳ báo cáo (02-04) | C23: Đồng | D23: 12 | G23: =G17 -> 753090.98 | H23: =G23 -> 753090.98
A24: 2 | B24: Từ đầu năm đến cuối kỳ báo cáo (03-08) | C24: Đồng | D24: 13 | G24: =G21 -> #REF! | H24: =G24 -> #REF!
A25: 3 | B25: Số còn nợ chưa nộp cấp trên đến cuối kỳ báo cáo | C25: Đồng | D25: 14 | G25: 0 | H25: =G25 -> 0
G27: Ngày tháng năm 2017
B28: Người lập | G28: T/M Cấp ủy
B31: Đỗ Thị Phương Khanh

Sheet Thang 11
A1: ĐẢNG CỘNG SẢN VIỆT NAM | E1: Mẫu báo cáo B01/ĐP
A2: Đơn vị báo cáo: Chi bộ 3 | E2: Ban hành kèm theo Công văn số 141-CV/VPTW/nb
A3: Đơn vị nhận báo cáo: Đảng bộ trường CĐKT Lý Tự Trọng | E3: Ngày 17-3-2011 của Văn phòng Trung ương Đảng
A4: BÁO CÁO THU, NỘP ĐẢNG PHÍ
A5: Tháng 11 năm 2017
A7: TT | B7: Chỉ tiêu | C7: Đơn vị tính | D7: Mã số | E7: Đảng bộ xã, phường, thị trấn | F7: Đảng bộ doanh nghiệp | G7: Đảng bộ khác | H7: Cộng | I7: Ghi chú
A8: A | B8: B | C8: C | D8: D | E8: 1 | F8: 2 | G8: 3 | H8: 4=1+2+3 | I8: E
A9: I | B9: Tổng số Đảng viên đến cuối kỳ báo cáo | C9: Người | D9: 01 | G9: 17
A10: II | B10: Đảng phí thu được từ chi bộ của cấp báo cáo | C10: Đồng
A11: 1 | B11: Kỳ báo cáo | C11: Đồng | D11: 02 | G11: 1029743.3 | H11: =G11 -> 1029743.3
A12: 2 | B12: Từ đầu năm đến cuối kỳ báo cáo | C12: Đồng | D12: 03 | G12: =G11+#REF! -> #REF! | H12: =G12 -> #REF!
A13: III | B13: Đảng phí trích giữ lại ở các cấp | C13: Đồng
A14: 1 | B14: Kỳ báo cáo (05+06+07) | C14: Đồng | D14: 04
A15: 1.1 | B15: Chi bộ, đảng bộ bộ phận | C15: Đồng | D15: 5 | G15: =G11*30% -> 308922.98 | H15: =G15 -> 308922.98
A16: 1.2 | B16: Tổ chức cơ sở Đảng | C16: Đồng | D16: 6
A17: 1.3 | B17: Các cấp trên cơ sở | C17: Đồng | D17: 7 | G17: =G11*70% -> 720820.28 | H17: =G17 -> 720820.28
A18: 2 | B18: Từ đầu năm đến cuối kỳ báo cáo | C18: Đồng | D18: 8
A19: 2.1 | B19: Chi bộ, đảng bộ bộ phận | C19: Đồng | D19: 9 | G19: =G12*30% -> #REF! | H19: =G19 -> #REF!
A20: 2.2 | B20: Tổ chức cơ sở Đảng | C20: Đồng | D20: 10
A21: 2.3 | B21: Các cấp trên cơ sở | C21: Đồng | D21: 11 | G21: =G12*70% -> #REF! | H21: =G21 -> #REF!
A22: IV | B22: Đảng phí nộp cấp trên của cấp báo cáo | C22: Đồng
A23: 1 | B23: Số phải nộp kỳ báo cáo (02-04) | C23: Đồng | D23: 12 | G23: =G17 -> 720820.28 | H23: =G23 -> 720820.28
A24: 2 | B24: Từ đầu năm đến cuối kỳ báo cáo (03-08) | C24: Đồng | D24: 13 | G24: =G21 -> #REF! | H24: =G24 -> #REF!
A25: 3 | B25: Số còn nợ chưa nộp cấp trên đến cuối kỳ báo cáo | C25: Đồng | D25: 14 | G25: 0 | H25: =G25 -> 0
G27: Ngày tháng năm 2017
B28: Người lập | G28: T/M Cấp ủy
B31: Đỗ Thị Phương Khanh

Sheet Thang 12
A1: ĐẢNG CỘNG SẢN VIỆT NAM | E1: Mẫu báo cáo B01/ĐP
A2: Đơn vị báo cáo: Chi bộ 3 | E2: Ban hành kèm theo Công văn số 141-CV/VPTW/nb
A3: Đơn vị nhận báo cáo: Đảng bộ trường CĐKT Lý Tự Trọng | E3: Ngày 17-3-2011 của Văn phòng Trung ương Đảng
A4: BÁO CÁO THU, NỘP ĐẢNG PHÍ
A5: Tháng 12 năm 2017
A7: TT | B7: Chỉ tiêu | C7: Đơn vị tính | D7: Mã số | E7: Đảng bộ xã, phường, thị trấn | F7: Đảng bộ doanh nghiệp | G7: Đảng bộ khác | H7: Cộng | I7: Ghi chú
A8: A | B8: B | C8: C | D8: D | E8: 1 | F8: 2 | G8: 3 | H8: 4=1+2+3 | I8: E
A9: I | B9: Tổng số Đảng viên đến cuối kỳ báo cáo | C9: Người | D9: 01 | G9: 17
A10: II | B10: Đảng phí thu được từ chi bộ của cấp báo cáo | C10: Đồng
A11: 1 | B11: Kỳ báo cáo | C11: Đồng | D11: 02 | G11: 1075844.3 | H11: =G11 -> 1075844.3
A12: 2 | B12: Từ đầu năm đến cuối kỳ báo cáo | C12: Đồng | D12: 03 | G12: =G11+#REF! -> #REF! | H12: =G12 -> #REF!
A13: III | B13: Đảng phí trích giữ lại ở các cấp | C13: Đồng
A14: 1 | B14: Kỳ báo cáo (05+06+07) | C14: Đồng | D14: 04
A15: 1.1 | B15: Chi bộ, đảng bộ bộ phận | C15: Đồng | D15: 5 | G15: =G11*30% -> 322753.28 | H15: =G15 -> 322753.28
A16: 1.2 | B16: Tổ chức cơ sở Đảng | C16: Đồng | D16: 6
A17: 1.3 | B17: Các cấp trên cơ sở | C17: Đồng | D17: 7 | G17: =G11*70% -> 753090.98 | H17: =G17 -> 753090.98
A18: 2 | B18: Từ đầu năm đến cuối kỳ báo cáo | C18: Đồng | D18: 8
A19: 2.1 | B19: Chi bộ, đảng bộ bộ phận | C19: Đồng | D19: 9 | G19: =G12*30% -> #REF! | H19: =G19 -> #REF!
A20: 2.2 | B20: Tổ chức cơ sở Đảng | C20: Đồng | D20: 10
A21: 2.3 | B21: Các cấp trên cơ sở | C21: Đồng | D21: 11 | G21: =G12*70% -> #REF! | H21: =G21 -> #REF!
A22: IV | B22: Đảng phí nộp cấp trên của cấp báo cáo | C22: Đồng
A23: 1 | B23: Số phải nộp kỳ báo cáo (02-04) | C23: Đồng | D23: 12 | G23: =G17 -> 753090.98 | H23: =G23 -> 753090.98
A24: 2 | B24: Từ đầu năm đến cuối kỳ báo cáo (03-08) | C24: Đồng | D24: 13 | G24: =G21 -> #REF! | H24: =G24 -> #REF!
A25: 3 | B25: Số còn nợ chưa nộp cấp trên đến cuối kỳ báo cáo | C25: Đồng | D25: 14 | G25: 0 | H25: =G25 -> 0
G27: Ngày tháng năm 2017
B28: Người lập | G28: T/M Cấp ủy
B31: Đỗ Thị Phương Khanh

Sheet Quy 4
A1: ĐẢNG CỘNG SẢN VIỆT NAM | E1: Mẫu báo cáo B01/ĐP
A2: Đơn vị báo cáo: Chi bộ 3 | E2: Ban hành kèm theo Công văn số 141-CV/VPTW/nb
A3: Đơn vị nhận báo cáo: Đảng bộ trường CĐKT Lý Tự Trọng | E3: Ngày 17-3-2011 của Văn phòng Trung ương Đảng
A4: BÁO CÁO THU, NỘP ĐẢNG PHÍ
A5: Quý 4 năm 2017
A7: TT | B7: Chỉ tiêu | C7: Đơn vị tính | D7: Mã số | E7: Đảng bộ xã, phường, thị trấn | F7: Đảng bộ doanh nghiệp | G7: Đảng bộ khác | H7: Cộng | I7: Ghi chú
A8: A | B8: B | C8: C | D8: D | E8: 1 | F8: 2 | G8: 3 | H8: 4=1+2+3 | I8: E
A9: I | B9: Tổng số Đảng viên đến cuối kỳ báo cáo | C9: Người | D9: 01 | G9: 17
A10: II | B10: Đảng phí thu được từ chi bộ của cấp báo cáo | C10: Đồng | M10: 2760787.5
A11: 1 | B11: Kỳ báo cáo | C11: Đồng | D11: 02 | G11: ='Thang 10'!G11+'Thang 11'!G11+'Thang 12'!G11 -> 3181431.8 | H11: =G11 -> 3181431.8 | M11: 2669992.7
A12: 2 | B12: Từ đầu năm đến cuối kỳ báo cáo | C12: Đồng | D12: 03 | G12: =G11+#REF! -> #REF! | H12: =G12 -> #REF! | M12: =M10+M11 -> 5430780.3
A13: III | B13: Đảng phí trích giữ lại ở các cấp | C13: Đồng
A14: 1 | B14: Kỳ báo cáo (05+06+07) | C14: Đồng | D14: 04
A15: 1.1 | B15: Chi bộ, đảng bộ bộ phận | C15: Đồng | D15: 5 | G15: =G11*30% -> 954429.54 | H15: =G15 -> 954429.54
A16: 1.2 | B16: Tổ chức cơ sở Đảng | C16: Đồng | D16: 6
A17: 1.3 | B17: Các cấp trên cơ sở | C17: Đồng | D17: 7 | G17: =G11*70% -> 2227002.3 | H17: =G17 -> 2227002.3
A18: 2 | B18: Từ đầu năm đến cuối kỳ báo cáo | C18: Đồng | D18: 8
A19: 2.1 | B19: Chi bộ, đảng bộ bộ phận | C19: Đồng | D19: 9 | G19: =G12*30% -> #REF! | H19: =G19 -> #REF!
A20: 2.2 | B20: Tổ chức cơ sở Đảng | C20: Đồng | D20: 10
A21: 2.3 | B21: Các cấp trên cơ sở | C21: Đồng | D21: 11 | G21: =G12*70% -> #REF! | H21: =G21 -> #REF!
A22: IV | B22: Đảng phí nộp cấp trên của cấp báo cáo | C22: Đồng
A23: 1 | B23: Số phải nộp kỳ báo cáo (02-04) | C23: Đồng | D23: 12 | G23: =G17 -> 2227002.3 | H23: =G23 -> 2227002.3
A24: 2 | B24: Từ đầu năm đến cuối kỳ báo cáo (03-08) | C24: Đồng | D24: 13 | G24: =G21 -> #REF! | H24: =G24 -> #REF!
A25: 3 | B25: Số còn nợ chưa nộp cấp trên đến cuối kỳ báo cáo | C25: Đồng | D25: 14 | G25: 0 | H25: =G25 -> 0
G27: Ngày tháng năm 2017
B28: Người lập | G28: T/M Cấp ủy
B33: Đỗ Thị Phương Khanh

Sheet thang 01-2019
A1: ĐẢNG CỘNG SẢN VIỆT NAM | E1: Mẫu báo cáo B01/ĐP
A2: Đơn vị báo cáo: Chi bộ 3 | E2: Ban hành kèm theo Công văn số 141-CV/VPTW/nb
A3: Đơn vị nhận báo cáo: Đảng bộ trường CĐKT Lý Tự Trọng | E3: Ngày 17-3-2011 của Văn phòng Trung ương Đảng
A4: BÁO CÁO THU, NỘP ĐẢNG PHÍ
A5: Tháng 01 năm 2019
A7: TT | B7: Chỉ tiêu | C7: Đơn vị tính | D7: Mã số | E7: Đảng bộ xã, phường, thị trấn | F7: Đảng bộ doanh nghiệp | G7: Đảng bộ khác | H7: Cộng | I7: Ghi chú
A8: A | B8: B | C8: C | D8: D | E8: 1 | F8: 2 | G8: 3 | H8: 4=1+2+3 | I8: E
A9: I | B9: Tổng số Đảng viên đến cuối kỳ báo cáo | C9: Người | D9: 01 | G9: 16
A10: II | B10: Đảng phí thu được từ chi bộ của cấp báo cáo | C10: Đồng
A11: 1 | B11: Kỳ báo cáo | C11: Đồng | D11: 02 | G11: 1173480 | H11: =G11 -> 1173480
A12: 2 | B12: Từ đầu năm đến cuối kỳ báo cáo | C12: Đồng | D12: 03 | G12: =G11 -> 1173480 | H12: =G12 -> 1173480
A13: III | B13: Đảng phí trích giữ lại ở các cấp | C13: Đồng
A14: 1 | B14: Kỳ báo cáo (05+06+07) | C14: Đồng | D14: 04 | G14: =G15+G16+G17 -> 1173480
A15: 1.1 | B15: Chi bộ, đảng bộ bộ phận | C15: Đồng | D15: 5 | G15: =G11*30% -> 352044 | H15: =G15 -> 352044
A16: 1.2 | B16: Tổ chức cơ sở Đảng | C16: Đồng | D16: 6
A17: 1.3 | B17: Các cấp trên cơ sở | C17: Đồng | D17: 7 | G17: =G11*70% -> 821436 | H17: =G17 -> 821436
A18: 2 | B18: Từ đầu năm đến cuối kỳ báo cáo | C18: Đồng | D18: 8 | G18: =G19+G20+G21 -> 1173480
A19: 2.1 | B19: Chi bộ, đảng bộ bộ phận | C19: Đồng | D19: 9 | G19: =G12*30% -> 352044 | H19: =G19 -> 352044
A20: 2.2 | B20: Tổ chức cơ sở Đảng | C20: Đồng | D20: 10
A21: 2.3 | B21: Các cấp trên cơ sở | C21: Đồng | D21: 11 | G21: =G12*70% -> 821436 | H21: =G21 -> 821436
A22: IV | B22: Đảng phí nộp cấp trên của cấp báo cáo | C22: Đồng
A23: 1 | B23: Số phải nộp kỳ báo cáo (02-04) | C23: Đồng | D23: 12 | G23: =G11*70% -> 821436 | H23: =G23 -> 821436
A24: 2 | B24: Từ đầu năm đến cuối kỳ báo cáo (03-08) | C24: Đồng | D24: 13 | G24: =G21 -> 821436 | H24: =G24 -> 821436
A25: 3 | B25: Số còn nợ chưa nộp cấp trên đến cuối kỳ báo cáo | C25: Đồng | D25: 14 | G25: 0 | H25: =G25 -> 0
G27: Ngày tháng 01 năm 2019
B28: Người lập | G28: T/M Cấp ủy
B31: Đỗ Thị Phương Khanh | G31: Châu Văn Bảo

Sheet thang 02-2019
A1: ĐẢNG CỘNG SẢN VIỆT NAM | E1: Mẫu báo cáo B01/ĐP
A2: Đơn vị báo cáo: Chi bộ 3 | E2: Ban hành kèm theo Công văn số 141-CV/VPTW/nb
A3: Đơn vị nhận báo cáo: Đảng bộ trường CĐKT Lý Tự Trọng | E3: Ngày 17-3-2011 của Văn phòng Trung ương Đảng
A4: BÁO CÁO THU, NỘP ĐẢNG PHÍ
A5: Tháng 02 năm 2019
A7: TT | B7: Chỉ tiêu | C7: Đơn vị tính | D7: Mã số | E7: Đảng bộ xã, phường, thị trấn | F7: Đảng bộ doanh nghiệp | G7: Đảng bộ khác | H7: Cộng | I7: Ghi chú
A8: A | B8: B | C8: C | D8: D | E8: 1 | F8: 2 | G8: 3 | H8: 4=1+2+3 | I8: E
A9: I | B9: Tổng số Đảng viên đến cuối kỳ báo cáo | C9: Người | D9: 01 | G9: 16
A10: II | B10: Đảng phí thu được từ chi bộ của cấp báo cáo | C10: Đồng
A11: 1 | B11: Kỳ báo cáo | C11: Đồng | D11: 02 | G11: 1173480 | H11: =G11 -> 1173480
A12: 2 | B12: Từ đầu năm đến cuối kỳ báo cáo | C12: Đồng | D12: 03 | G12: =G11+'thang 01-2019'!G12 -> 2346960 | H12: =G12 -> 2346960
A13: III | B13: Đảng phí trích giữ lại ở các cấp | C13: Đồng
A14: 1 | B14: Kỳ báo cáo (05+06+07) | C14: Đồng | D14: 04 | G14: =G15+G16+G17 -> 1173480
A15: 1.1 | B15: Chi bộ, đảng bộ bộ phận | C15: Đồng | D15: 5 | G15: =G11*30% -> 352044 | H15: =G15 -> 352044
A16: 1.2 | B16: Tổ chức cơ sở Đảng | C16: Đồng | D16: 6
A17: 1.3 | B17: Các cấp trên cơ sở | C17: Đồng | D17: 7 | G17: =G11*70% -> 821436 | H17: =G17 -> 821436
A18: 2 | B18: Từ đầu năm đến cuối kỳ báo cáo | C18: Đồng | D18: 8 | G18: =G19+G20+G21 -> 2346960
A19: 2.1 | B19: Chi bộ, đảng bộ bộ phận | C19: Đồng | D19: 9 | G19: =G12*30% -> 704088 | H19: =G19 -> 704088
A20: 2.2 | B20: Tổ chức cơ sở Đảng | C20: Đồng | D20: 10
A21: 2.3 | B21: Các cấp trên cơ sở | C21: Đồng | D21: 11 | G21: =G12*70% -> 1642872 | H21: =G21 -> 1642872
A22: IV | B22: Đảng phí nộp cấp trên của cấp báo cáo | C22: Đồng
A23: 1 | B23: Số phải nộp kỳ báo cáo (02-04) | C23: Đồng | D23: 12 | G23: =G17 -> 821436 | H23: =G23 -> 821436
A24: 2 | B24: Từ đầu năm đến cuối kỳ báo cáo (03-08) | C24: Đồng | D24: 13 | G24: =G21 -> 1642872 | H24: =G24 -> 1642872
A25: 3 | B25: Số còn nợ chưa nộp cấp trên đến cuối kỳ báo cáo | C25: Đồng | D25: 14 | G25: 0 | H25: =G25 -> 0
G27: Ngày tháng 02 năm 2019
B28: Người lập | G28: T/M Cấp ủy
B31: Đỗ Thị Phương Khanh | G31: Châu Văn Bảo

Sheet thang 03-2019
A1: ĐẢNG CỘNG SẢN VIỆT NAM | E1: Mẫu báo cáo B01/ĐP
A2: Đơn vị báo cáo: Chi bộ 3 | E2: Ban hành kèm theo Công văn số 141-CV/VPTW/nb
A3: Đơn vị nhận báo cáo: Đảng bộ trường CĐKT Lý Tự Trọng | E3: Ngày 17-3-2011 của Văn phòng Trung ương Đảng
A4: BÁO CÁO THU, NỘP ĐẢNG PHÍ
A5: Tháng 03 năm 2019
A7: TT | B7: Chỉ tiêu | C7: Đơn vị tính | D7: Mã số | E7: Đảng bộ xã, phường, thị trấn | F7: Đảng bộ doanh nghiệp | G7: Đảng bộ khác | H7: Cộng | I7: Ghi chú
A8: A | B8: B | C8: C | D8: D | E8: 1 | F8: 2 | G8: 3 | H8: 4=1+2+3 | I8: E
A9: I | B9: Tổng số Đảng viên đến cuối kỳ báo cáo | C9: Người | D9: 01 | G9: 17
A10: II | B10: Đảng phí thu được từ chi bộ của cấp báo cáo | C10: Đồng
A11: 1 | B11: Kỳ báo cáo | C11: Đồng | D11: 02 | G11: 1173480 | H11: =G11 -> 1173480
A12: 2 | B12: Từ đầu năm đến cuối kỳ báo cáo | C12: Đồng | D12: 03 | G12: =G11+'thang 02-2019'!G12 -> 3520440 | H12: =G12 -> 3520440
A13: III | B13: Đảng phí trích giữ lại ở các cấp | C13: Đồng
A14: 1 | B14: Kỳ báo cáo (05+06+07) | C14: Đồng | D14: 04 | G14: =G15+G16+G17 -> 1173480
A15: 1.1 | B15: Chi bộ, đảng bộ bộ phận | C15: Đồng | D15: 5 | G15: =G11*30% -> 352044 | H15: =G15 -> 352044
A16: 1.2 | B16: Tổ chức cơ sở Đảng | C16: Đồng | D16: 6
A17: 1.3 | B17: Các cấp trên cơ sở | C17: Đồng | D17: 7 | G17: =G11*70% -> 821436 | H17: =G17 -> 821436
A18: 2 | B18: Từ đầu năm đến cuối kỳ báo cáo | C18: Đồng | D18: 8
A19: 2.1 | B19: Chi bộ, đảng bộ bộ phận | C19: Đồng | D19: 9 | G19: =G12*30% -> 1056132 | H19: =G19 -> 1056132
A20: 2.2 | B20: Tổ chức cơ sở Đảng | C20: Đồng | D20: 10
A21: 2.3 | B21: Các cấp trên cơ sở | C21: Đồng | D21: 11 | G21: =G12*70% -> 2464308 | H21: =G21 -> 2464308
A22: IV | B22: Đảng phí nộp cấp trên của cấp báo cáo | C22: Đồng
A23: 1 | B23: Số phải nộp kỳ báo cáo (02-04) | C23: Đồng | D23: 12 | G23: =G17 -> 821436 | H23: =G23 -> 821436
A24: 2 | B24: Từ đầu năm đến cuối kỳ báo cáo (03-08) | C24: Đồng | D24: 13 | G24: =G21 -> 2464308 | H24: =G24 -> 2464308
A25: 3 | B25: Số còn nợ chưa nộp cấp trên đến cuối kỳ báo cáo | C25: Đồng | D25: 14 | G25: 0 | H25: =G25 -> 0
G27: Ngày tháng 03 năm 2019
B28: Người lập | G28: T/M Cấp ủy
B31: Đỗ Thị Phương Khanh | G31: Châu Văn Bảo

Sheet qui 1-2019
A1: ĐẢNG CỘNG SẢN VIỆT NAM | E1: Mẫu báo cáo B01/ĐP
A2: Đơn vị báo cáo: Chi bộ 3 | E2: Ban hành kèm theo Công văn số 141-CV/VPTW/nb
A3: Đơn vị nhận báo cáo: Đảng bộ trường CĐ Lý Tự Trọng | E3: Ngày 17-3-2011 của Văn phòng Trung ương Đảng
A4: BÁO CÁO THU, NỘP ĐẢNG PHÍ
A5: Quý 1 năm 2019
A7: TT | B7: Chỉ tiêu | C7: Đơn vị tính | D7: Mã số | E7: Đảng bộ xã, phường, thị trấn | F7: Đảng bộ doanh nghiệp | G7: Đảng bộ khác | H7: Cộng | I7: Ghi chú
A8: A | B8: B | C8: C | D8: D | E8: 1 | F8: 2 | G8: 3 | H8: 4=1+2+3 | I8: E
A9: I | B9: Tổng số Đảng viên đến cuối kỳ báo cáo | C9: Người | D9: 01 | G9: 16
A10: II | B10: Đảng phí thu được từ chi bộ của cấp báo cáo | C10: Đồng | M10: 2760787.5
A11: 1 | B11: Kỳ báo cáo | C11: Đồng | D11: 02 | G11: ='thang 01-2019'!G11+'thang 02-2019'!G11+'thang 03-2019'!G11 -> 3520440 | H11: =G11 -> 3520440 | M11: 2669992.7
A12: 2 | B12: Từ đầu năm đến cuối kỳ báo cáo | C12: Đồng | D12: 03 | G12: =G11 -> 3520440 | H12: =G12 -> 3520440 | M12: =M10+M11 -> 5430780.3
A13: III | B13: Đảng phí trích giữ lại ở các cấp | C13: Đồng
A14: 1 | B14: Kỳ báo cáo (05+06+07) | C14: Đồng | D14: 04 | G14: =G15+G16+G17 -> 3520440
A15: 1.1 | B15: Chi bộ, đảng bộ bộ phận | C15: Đồng | D15: 5 | G15: =G11*30% -> 1056132 | H15: =G15 -> 1056132
A16: 1.2 | B16: Tổ chức cơ sở Đảng | C16: Đồng | D16: 6
A17: 1.3 | B17: Các cấp trên cơ sở | C17: Đồng | D17: 7 | G17: =G11*70% -> 2464308 | H17: =G17 -> 2464308
A18: 2 | B18: Từ đầu năm đến cuối kỳ báo cáo | C18: Đồng | D18: 8 | G18: =G19+G20+G21 -> 3520440 | H18: =H12*70% -> 2464308
A19: 2.1 | B19: Chi bộ, đảng bộ bộ phận | C19: Đồng | D19: 9 | G19: =G12*30% -> 1056132 | H19: =G19 -> 1056132
A20: 2.2 | B20: Tổ chức cơ sở Đảng | C20: Đồng | D20: 10
A21: 2.3 | B21: Các cấp trên cơ sở | C21: Đồng | D21: 11 | G21: =G12*70% -> 2464308 | H21: =G21 -> 2464308
A22: IV | B22: Đảng phí nộp cấp trên của cấp báo cáo | C22: Đồng
A23: 1 | B23: Số phải nộp kỳ báo cáo (02-04) | C23: Đồng | D23: 12 | G23: =G17 -> 2464308 | H23: =G23 -> 2464308
A24: 2 | B24: Từ đầu năm đến cuối kỳ báo cáo (03-08) | C24: Đồng | D24: 13 | G24: =G21 -> 2464308 | H24: =G24 -> 2464308
A25: 3 | B25: Số còn nợ chưa nộp cấp trên đến cuối kỳ báo cáo | C25: Đồng | D25: 14 | G25: 0 | H25: =G25 -> 0
G27: Ngày 15 tháng 03 năm 2019
B28: Người lập | G28: T/M Cấp ủy
B32: Đỗ Thị Phương Khanh | G32: Châu Văn Bảo

Sheet thang 04-2019
A1: ĐẢNG CỘNG SẢN VIỆT NAM | E1: Mẫu báo cáo B01/ĐP
A2: Đơn vị báo cáo: Chi bộ 3 | E2: Ban hành kèm theo Công văn số 141-CV/VPTW/nb
A3: Đơn vị nhận báo cáo: Đảng bộ trường CĐKT Lý Tự Trọng | E3: Ngày 17-3-2011 của Văn phòng Trung ương Đảng
A4: BÁO CÁO THU, NỘP ĐẢNG PHÍ
A5: Tháng 02 năm 2019
A7: TT | B7: Chỉ tiêu | C7: Đơn vị tính | D7: Mã số | E7: Đảng bộ xã, phường, thị trấn | F7: Đảng bộ doanh nghiệp | G7: Đảng bộ khác | H7: Cộng | I7: Ghi chú
A8: A | B8: B | C8: C | D8: D | E8: 1 | F8: 2 | G8: 3 | H8: 4=1+2+3 | I8: E
A9: I | B9: Tổng số Đảng viên đến cuối kỳ báo cáo | C9: Người | D9: 01 | G9: 17
A10: II | B10: Đảng phí thu được từ chi bộ của cấp báo cáo | C10: Đồng
A11: 1 | B11: Kỳ báo cáo | C11: Đồng | D11: 02 | G11: 1113152 | H11: =G11 -> 1113152
A12: 2 | B12: Từ đầu năm đến cuối kỳ báo cáo | C12: Đồng | D12: 03 | G12: =G11+'thang 03-2019'!G12 -> 4633592 | H12: =G12 -> 4633592
A13: III | B13: Đảng phí trích giữ lại ở các cấp | C13: Đồng
A14: 1 | B14: Kỳ báo cáo (05+06+07) | C14: Đồng | D14: 04
A15: 1.1 | B15: Chi bộ, đảng bộ bộ phận | C15: Đồng | D15: 5 | G15: =G11*30% -> 333945.6 | H15: =G15 -> 333945.6
A16: 1.2 | B16: Tổ chức cơ sở Đảng | C16: Đồng | D16: 6
A17: 1.3 | B17: Các cấp trên cơ sở | C17: Đồng | D17: 7 | G17: =G11*70% -> 779206.4 | H17: =G17 -> 779206.4
A18: 2 | B18: Từ đầu năm đến cuối kỳ báo cáo | C18: Đồng | D18: 8
A19: 2.1 | B19: Chi bộ, đảng bộ bộ phận | C19: Đồng | D19: 9 | G19: =G12*30% -> 1390077.6 | H19: =G19 -> 1390077.6
A20: 2.2 | B20: Tổ chức cơ sở Đảng | C20: Đồng | D20: 10
A21: 2.3 | B21: Các cấp trên cơ sở | C21: Đồng | D21: 11 | G21: =G12*70% -> 3243514.4 | H21: =G21 -> 3243514.4
A22: IV | B22: Đảng phí nộp cấp trên của cấp báo cáo | C22: Đồng
A23: 1 | B23: Số phải nộp kỳ báo cáo (02-04) | C23: Đồng | D23: 12 | G23: =G17 -> 779206.4 | H23: =G23 -> 779206.4
A24: 2 | B24: Từ đầu năm đến cuối kỳ báo cáo (03-08) | C24: Đồng | D24: 13 | G24: =G21 -> 3243514.4 | H24: =G24 -> 3243514.4
A25: 3 | B25: Số còn nợ chưa nộp cấp trên đến cuối kỳ báo cáo | C25: Đồng | D25: 14 | G25: 0 | H25: =G25 -> 0
G27: Ngày tháng năm 2017
B28: Người lập | G28: T/M Cấp ủy
B31: Đỗ Thị Phương Khanh

Sheet qui 2-2019
A1: ĐẢNG CỘNG SẢN VIỆT NAM | E1: Mẫu báo cáo B01/ĐP
A2: Đơn vị báo cáo: Chi bộ 3 | E2: Ban hành kèm theo Công văn số 141-CV/VPTW/nb
A3: Đơn vị nhận báo cáo: Đảng bộ trường CĐ Lý Tự Trọng | E3: Ngày 17-3-2011 của Văn phòng Trung ương Đảng
A4: BÁO CÁO THU, NỘP ĐẢNG PHÍ
A5: Quý 2 năm 2019
A7: TT | B7: Chỉ tiêu | C7: Đơn vị tính | D7: Mã số | E7: Đảng bộ xã, phường, thị trấn | F7: Đảng bộ doanh nghiệp | G7: Đảng bộ khác | H7: Cộng | I7: Ghi chú
A8: A | B8: B | C8: C | D8: D | E8: 1 | F8: 2 | G8: 3 | H8: 4=1+2+3 | I8: E
A9: I | B9: Tổng số Đảng viên đến cuối kỳ báo cáo | C9: Người | D9: 01 | G9: 15
A10: II | B10: Đảng phí thu được từ chi bộ của cấp báo cáo | C10: Đồng | M10: 2760787.5
A11: 1 | B11: Kỳ báo cáo | C11: Đồng | D11: 02 | G11: ='thang 01-2019'!G11+'thang 02-2019'!G11+'thang 03-2019'!G11 -> 3520440 | H11: =G11 -> 3520440 | M11: 2669992.7
A12: 2 | B12: Từ đầu năm đến cuối kỳ báo cáo | C12: Đồng | D12: 03 | G12: =G11+'qui 1-2019'!G12 -> 7040880 | H12: =G12 -> 7040880 | M12: =M10+M11 -> 5430780.3
A13: III | B13: Đảng phí trích giữ lại ở các cấp | C13: Đồng
A14: 1 | B14: Kỳ báo cáo (05+06+07) | C14: Đồng | D14: 04
A15: 1.1 | B15: Chi bộ, đảng bộ bộ phận | C15: Đồng | D15: 5 | G15: =G11*30% -> 1056132 | H15: =G15 -> 1056132
A16: 1.2 | B16: Tổ chức cơ sở Đảng | C16: Đồng | D16: 6
A17: 1.3 | B17: Các cấp trên cơ sở | C17: Đồng | D17: 7 | G17: =G11*70% -> 2464308 | H17: =G17 -> 2464308
A18: 2 | B18: Từ đầu năm đến cuối kỳ báo cáo | C18: Đồng | D18: 8
A19: 2.1 | B19: Chi bộ, đảng bộ bộ phận | C19: Đồng | D19: 9 | G19: =G12*30% -> 2112264 | H19: =G19 -> 2112264
A20: 2.2 | B20: Tổ chức cơ sở Đảng | C20: Đồng | D20: 10
A21: 2.3 | B21: Các cấp trên cơ sở | C21: Đồng | D21: 11 | G21: =G12*70% -> 4928616 | H21: =G21 -> 4928616
A22: IV | B22: Đảng phí nộp cấp trên của cấp báo cáo | C22: Đồng
A23: 1 | B23: Số phải nộp kỳ báo cáo (02-04) | C23: Đồng | D23: 12 | G23: =G17 -> 2464308 | H23: =G23 -> 2464308
A24: 2 | B24: Từ đầu năm đến cuối kỳ báo cáo (03-08) | C24: Đồng | D24: 13 | G24: =G21 -> 4928616 | H24: =G24 -> 4928616
A25: 3 | B25: Số còn nợ chưa nộp cấp trên đến cuối kỳ báo cáo | C25: Đồng | D25: 14 | G25: 0 | H25: =G25 -> 0
G27: Ngày tháng năm
B28: Người lập | G28: T/M Cấp ủy
